BEGIN:VCALENDAR
VERSION:2.0
PRODID:-//eventon.com NONSGML v1.0//EN
CALSCALE:GREGORIAN
METHOD:PUBLISH
BEGIN:VEVENT
UID:69e736dd2131a
DTSTAMP:20260421T083541Z
DTSTART:20260326T193000Z
DTEND:20260326T220000Z
LOCATION:
SUMMARY:Blue Lakes Big Band LIVE!
DESCRIPTION:Live im Sushi Shiro\,  19.30 Uhr\,  Landsbergerstr. 58\,  86938
  Schondorf a. A.\nhttps://musikschule-inning.de/events/blue-lakes-big-band-
 live/
URL:https://musikschule-inning.de/events/blue-lakes-big-band-live/
END:VEVENT
END:VCALENDAR