BEGIN:VCALENDAR
VERSION:2.0
PRODID:-//eventon.com NONSGML v1.0//EN
CALSCALE:GREGORIAN
METHOD:PUBLISH
BEGIN:VEVENT
UID:69e770522508f
DTSTAMP:20260421T124050Z
DTSTART:20251207T100000Z
DTEND:20251207T110000Z
LOCATION:Haus der Vereine\,  Saal
SUMMARY:Warten auf's Christkind
DESCRIPTION:Warten auf's Christkind\nhttps://musikschule-inning.de/events/w
 arten-aufs-christkind-3/
URL:https://musikschule-inning.de/events/warten-aufs-christkind-3/
END:VEVENT
END:VCALENDAR