BEGIN:VCALENDAR
VERSION:2.0
PRODID:-//eventon.com NONSGML v1.0//EN
CALSCALE:GREGORIAN
METHOD:PUBLISH
BEGIN:VEVENT
UID:69e61ff3b0d5e
DTSTAMP:20260420T124539Z
DTSTART:20250811T093000Z
DTEND:20250811T113000Z
LOCATION:Haus der Vereine\,  Raum 05
SUMMARY:Trommeln im Sommer
DESCRIPTION:Ein Trommelkurs im Rahmen des Ferienprogramms der Nachbarschaft
 shilfe Inning e.V. Näheres und Anmeldung ab dem 07. Juli 2025 unter https:
 //www.nachbarschaftshilfe-inning.de\nhttps://musikschule-inning.de/events/t
 rommeln-im-sommer/
URL:https://musikschule-inning.de/events/trommeln-im-sommer/
END:VEVENT
END:VCALENDAR