BEGIN:VCALENDAR
VERSION:2.0
PRODID:-//eventon.com NONSGML v1.0//EN
CALSCALE:GREGORIAN
METHOD:PUBLISH
BEGIN:VEVENT
UID:69e741dd7c328
DTSTAMP:20260421T092237Z
DTSTART:20250709T163000Z
DTEND:20250709T171500Z
LOCATION:Theatertraum Grundschule Inning Am Wasenfeld 15\,  82266 Inning am Ammersee
SUMMARY:5.Schülervorspiel DRUMS ONLY
DESCRIPTION:Trommel- und Schlagzeugvorspiel mit SchülerInnen von Michael R
 eiserer\nhttps://musikschule-inning.de/events/5-schuelervorspiel-drums-only
 -2/
URL:https://musikschule-inning.de/events/5-schuelervorspiel-drums-only-2/
END:VEVENT
END:VCALENDAR