BEGIN:VCALENDAR
VERSION:2.0
PRODID:-//eventon.com NONSGML v1.0//EN
CALSCALE:GREGORIAN
METHOD:PUBLISH
BEGIN:VEVENT
UID:69e7344a703d3
DTSTAMP:20260421T082442Z
DTSTART:20250113T083000Z
DTEND:20250113T103000Z
LOCATION:Haus der Vereine\,  Raum 05
SUMMARY:1.Lehrerkonferenz 2025
DESCRIPTION:Für die Musiklehrer*innen der Musikschule Inning e.V.\nhttps:/
 /musikschule-inning.de/events/1-lehrerkonferenz-2025/
URL:https://musikschule-inning.de/events/1-lehrerkonferenz-2025/
END:VEVENT
END:VCALENDAR